BEGIN:VCALENDAR
VERSION:2.0
PRODID:-//hacksw/handcal//NONSGML v1.0//EN
CALSCALE:GREGORIAN
BEGIN:VEVENT
TZID:Europe/Amsterdam
SUMMARY:WineVibes im TurmQuartier Pforzheim &#8211\; der Weincocktail-Workshop
LOCATION:TurmQuartier\, Poststraße 3\, 75172 Pforzheim
DESCRIPTION:Weitere Informationen: https://turmquartier.de/veranstaltungen/winevibes-im-turmquartier-pforzheim-der-weincocktail-workshop-4/
DTSTART:20261208T190000
DTEND:20261208T210000
URL;VALUE=URI:https://turmquartier.de/veranstaltungen/winevibes-im-turmquartier-pforzheim-der-weincocktail-workshop-4/
DTSTAMP:20260422T085833
UID:69e88db9d961e
END:VEVENT
END:VCALENDAR