BEGIN:VCALENDAR
VERSION:2.0
PRODID:-//hacksw/handcal//NONSGML v1.0//EN
CALSCALE:GREGORIAN
BEGIN:VEVENT
TZID:Europe/Amsterdam
SUMMARY:PaintNight – Kunst\, Drinks &amp\; Beats im TurmQuartier Pforzheim – der Kunst-Workshop
LOCATION:TurmQuartier\, Poststraße 3\, 75172 Pforzheim
DESCRIPTION:Weitere Informationen: https://turmquartier.de/veranstaltungen/paintnight-kunst-drinks-beats-im-turmquartier-pforzheim-der-kunst-workshop-2/
DTSTART:20260917T190000
DTEND:20260917T210000
URL;VALUE=URI:https://turmquartier.de/veranstaltungen/paintnight-kunst-drinks-beats-im-turmquartier-pforzheim-der-kunst-workshop-2/
DTSTAMP:20260420T083013
UID:69e5e41592f83
END:VEVENT
END:VCALENDAR