BEGIN:VCALENDAR
VERSION:2.0
PRODID:-//hacksw/handcal//NONSGML v1.0//EN
CALSCALE:GREGORIAN
BEGIN:VEVENT
TZID:Europe/Amsterdam
SUMMARY:PaintNight – Kunst\, Drinks &amp\; Beats im TurmQuartier Pforzheim – der Kunst-Workshop
LOCATION:TurmQuartier\, Poststraße 3\, 75172 Pforzheim
DESCRIPTION:Weitere Informationen: https://turmquartier.de/veranstaltungen/paintnight-kunst-drinks-beats-im-turmquartier-pforzheim-der-kunst-workshop-3/
DTSTART:20261204T190000
DTEND:20261204T210000
URL;VALUE=URI:https://turmquartier.de/veranstaltungen/paintnight-kunst-drinks-beats-im-turmquartier-pforzheim-der-kunst-workshop-3/
DTSTAMP:20260422T084845
UID:69e88b6dc0f33
END:VEVENT
END:VCALENDAR