BEGIN:VCALENDAR
VERSION:2.0
PRODID:-//hacksw/handcal//NONSGML v1.0//EN
CALSCALE:GREGORIAN
BEGIN:VEVENT
TZID:Europe/Amsterdam
SUMMARY:Blutspende im Frühling: Ein Termin\, der schnell und einfach Leben rettet
LOCATION:TurmQuartier\, Poststraße 3\, 75172 Pforzheim
DESCRIPTION:Weitere Informationen: https://turmquartier.de/veranstaltungen/blutspende-im-fruehling-ein-termin-der-schnell-und-einfach-leben-rettet/
DTSTART:20260507T143000
DTEND:20260507T193000
URL;VALUE=URI:https://turmquartier.de/veranstaltungen/blutspende-im-fruehling-ein-termin-der-schnell-und-einfach-leben-rettet/
DTSTAMP:20260421T111510
UID:69e75c3ea9fac
END:VEVENT
END:VCALENDAR